BEGIN:VCALENDAR
VERSION:2.0
PRODID:-//California Whiskey Sisters - ECPv6.2.0.1//NONSGML v1.0//EN
CALSCALE:GREGORIAN
METHOD:PUBLISH
X-ORIGINAL-URL:https://californiawhiskeysisters.com
X-WR-CALDESC:Events for California Whiskey Sisters
REFRESH-INTERVAL;VALUE=DURATION:PT1H
X-Robots-Tag:noindex
X-PUBLISHED-TTL:PT1H
BEGIN:VTIMEZONE
TZID:America/Los_Angeles
BEGIN:DAYLIGHT
TZOFFSETFROM:-0800
TZOFFSETTO:-0700
TZNAME:PDT
DTSTART:20230312T100000
END:DAYLIGHT
BEGIN:STANDARD
TZOFFSETFROM:-0700
TZOFFSETTO:-0800
TZNAME:PST
DTSTART:20231105T090000
END:STANDARD
END:VTIMEZONE
BEGIN:VEVENT
DTSTART;TZID=America/Los_Angeles:20231203T120000
DTEND;TZID=America/Los_Angeles:20231203T160000
DTSTAMP:20260421T221526
CREATED:20231031T192213Z
LAST-MODIFIED:20231103T222357Z
UID:304-1701604800-1701619200@californiawhiskeysisters.com
SUMMARY:Bourbon & Blooms
DESCRIPTION:Howdy Sisters! \nChristmas is around the corner and we are very excited to announce that we are teaming up with Shell Beach Floral Design to host Bourbon & Blooms! This event will take place on Sunday\, December\, 3 2023 from 12pm-4pm in the Rock Event Center and Cocktail Garden. This is a ticketed event and only 100 tickets are available\, so make sure you claim yours! Your $150 ticket will include a Rod & Hammer specialty holiday cocktail and a professional wreath design class instructed by Amanda Rounds from Shell Beach Floral Design. Additionally\, other amazing vendors including Basalt\, Ambiance\, and Khayam Jewels will be there for holiday boutique shopping 🙂 \nPurchase Ticket: \nhttps://www.exploretock.com/the-whiskey-lounge-at-the-carrisa/event/446054/bourbon-blooms \n 
URL:https://californiawhiskeysisters.com/event/bourbon-blooms/
LOCATION:Rod & Hammer’s SLO Stills\, 855 Aerovista Place\, San Luis Obispo\, CA\, 93401\, United States
END:VEVENT
END:VCALENDAR