BEGIN:VCALENDAR
VERSION:2.0
PRODID:-//California Whiskey Sisters - ECPv6.2.0.1//NONSGML v1.0//EN
CALSCALE:GREGORIAN
METHOD:PUBLISH
X-ORIGINAL-URL:https://californiawhiskeysisters.com
X-WR-CALDESC:Events for California Whiskey Sisters
REFRESH-INTERVAL;VALUE=DURATION:PT1H
X-Robots-Tag:noindex
X-PUBLISHED-TTL:PT1H
BEGIN:VTIMEZONE
TZID:America/Los_Angeles
BEGIN:DAYLIGHT
TZOFFSETFROM:-0800
TZOFFSETTO:-0700
TZNAME:PDT
DTSTART:20230312T100000
END:DAYLIGHT
BEGIN:STANDARD
TZOFFSETFROM:-0700
TZOFFSETTO:-0800
TZNAME:PST
DTSTART:20231105T090000
END:STANDARD
END:VTIMEZONE
BEGIN:VEVENT
DTSTART;TZID=America/Los_Angeles:20230819T120000
DTEND;TZID=America/Los_Angeles:20230819T180000
DTSTAMP:20260420T013941
CREATED:20230811T231056Z
LAST-MODIFIED:20230818T200416Z
UID:173-1692446400-1692468000@californiawhiskeysisters.com
SUMMARY:Meet & Greet The Founders
DESCRIPTION:Come meet our founding sisters at R&H Ranch at our Peach Whiskey booth.  We’ll have cute new California Whiskey Sisters swag\, information about our upcoming events and complimentary samples of R&H’s brand new peach whiskey!  We’ll be hanging out all day next to the Whiskey Wagon so please come by and introduce yourself.  Cheers and we can’t wait to meet you!
URL:https://californiawhiskeysisters.com/event/meet-greet-the-founders/
LOCATION:Rod & Hammer’s SLO Stills\, 855 Aerovista Place\, San Luis Obispo\, CA\, 93401\, United States
CATEGORIES:Public
END:VEVENT
END:VCALENDAR