BEGIN:VCALENDAR
VERSION:2.0
PRODID:-//California Whiskey Sisters - ECPv6.2.0.1//NONSGML v1.0//EN
CALSCALE:GREGORIAN
METHOD:PUBLISH
X-ORIGINAL-URL:https://californiawhiskeysisters.com
X-WR-CALDESC:Events for California Whiskey Sisters
REFRESH-INTERVAL;VALUE=DURATION:PT1H
X-Robots-Tag:noindex
X-PUBLISHED-TTL:PT1H
BEGIN:VTIMEZONE
TZID:America/Los_Angeles
BEGIN:DAYLIGHT
TZOFFSETFROM:-0800
TZOFFSETTO:-0700
TZNAME:PDT
DTSTART:20230312T100000
END:DAYLIGHT
BEGIN:STANDARD
TZOFFSETFROM:-0700
TZOFFSETTO:-0800
TZNAME:PST
DTSTART:20231105T090000
END:STANDARD
END:VTIMEZONE
BEGIN:VEVENT
DTSTART;TZID=America/Los_Angeles:20231101T173000
DTEND;TZID=America/Los_Angeles:20231101T190000
DTSTAMP:20260422T011709
CREATED:20231012T184210Z
LAST-MODIFIED:20231021T220409Z
UID:283-1698859800-1698865200@californiawhiskeysisters.com
SUMMARY:Whiskey Wednesday - Coyote Ugly
DESCRIPTION:Howdy Sisters! This will be Coyote Ugly themed Whiskey Wednesday at The Carrisa. This is a ticketed event and your $25 ticket will include food\, a drink\, and a boot scootin’ good time! Can’t wait to see y’all there! \nBuy your tickets here: \nhttps://www.exploretock.com/the-whiskey-lounge-at-the-carrisa/event/443619/california-whiskey-sisters-coyote-ugly
URL:https://californiawhiskeysisters.com/event/whiskey-wednesday-coyote-ugly/
LOCATION:The Carrisa\, 736 Higuera St\, San Luis Obispo\, CA\, 93401\, United States
END:VEVENT
END:VCALENDAR